Workbook
Name \\: #REF!
Name \a: #REF!
Name \b: #REF!
Name \c: #REF!
Name \d: #REF!
Name \p: #REF!
Name \q: #REF!
Name \x: #REF!
Name \y: #REF!
Name _: #REF!
Name _______PIB93: #REF!
Name ______PIB93: #REF!
Name _____PIB93: #REF!
Name ____PIB93: #REF!
Name ____ra113001: #REF!
Name ____RA211006: #REF!
Name ____raa118: #REF!
Name ____TAB1: #REF!
Name ____TAB4: #REF!
Name ___aux2: #REF!
Name ___aux22: #REF!
Name ___CIP89: #REF!
Name ___CIP898: #REF!
Name ___fim1: #REF!
Name ___mod22: #REF!
Name ___PIB93: #REF!
Name ___r61_Ind_4_05_04_ZEu_E: #REF!
Name ___ra113001: #REF!
Name ___RA211003: #REF!
Name ___RA211006: #REF!
Name ___raa118: #REF!
Name ___TAB1: #REF!
Name ___TAB4: #REF!
Name ___Xk366: 'Gráfico 8 | Chart 8'!#REF!,'Gráfico 8 | Chart 8'!#REF!
Name ___Xk366: #REF!,#REF!
Name __60_Ind_4_01_00_INT_I: #REF!
Name __60_Ind_4_06_05_INT_E: #REF!
Name __60_Ind_4_06_05_INT_I: #REF!
Name __61_Ind_4_0201_ZEu_E: #REF!
Name __aux2: #REF!
Name __aux22: #REF!
Name __cae: #REF!
Name __cae12: #REF!
Name __cae2: #REF!
Name __cae3: #REF!
Name __cae4: #REF!
Name __cae5: #REF!
Name __cae6: #REF!
Name __cae7: #REF!
Name __cae8: #REF!
Name __cae9: #REF!
Name __CIP89: #REF!
Name __CIP898: #REF!
Name __fim1: #REF!
Name __h14: #REF!
Name __Ind10: #REF!
Name __Ind11: #REF!
Name __Ind12: #REF!
Name __Ind13: #REF!
Name __Ind14: #REF!

Sheet Índice | Index
B7: CFP Relatório n.º 07/2026: Perspetivas Económicas e Orçamentais 2026-2030 (atualização)
B8: CFP Report no. 07/2026: Economic and Fiscal Outlook 2026-2030 (update)
B10: GRÁFICOS | C10: CHARTS
B11: Gráfico 1 - Margens de absorção do choque petrolífero e taxa de facilidade de depósito BCE | C11: Chart 1 – Oil price shock absorption margins and the ECB deposit facility rate
B12: Gráfico 2 - Hipóteses técnicas | C12: Chart 2 – Technical assumptions
B13: Gráfico 3 - Crescimento do PIB e contributos | C13: Chart 3 – GDP growth and contributions
B14: Gráfico 4 - Consumo privado e investimento | C14: Chart 4 – Private consumption and investment
B15: Gráfico 5 - Indicadores de preços e mercado de trabalho | C15: Chart 5 – Price and labour market indicators
B16: Gráfico 6 - Cenários para a evolução do preço das matérias-primas energéticas | C16: Chart 6 - Scenarios for the evolution of energy commodity prices
B17: Gráfico 7 - Impactos dos choques estimados sobre a economia face ao cenário central | C17: Chart 7 - Estimated impacts of the shocks on the economy relative to the central scenario
B18: Gráfico 8 - Saldo orçamental (em % do PIB) | C18: Chart 8 - Budgetary balance (in % of GDP)
B19: Gráfico 9 - Despesa líquida 2026-2028 (em % e p.p.) | C19: Chart 9 - Net expenditure 2026-2028 (in % and p.p.)
B20: Gráfico 10 - Evolução da dívida pública (em % do PIB) | C20: Chart 10 - Public debt developments (in % of GDP)
B21: Gráfico 11 - Taxas de juro médias das Obrigações do Tesouro a 10 anos (em %) | C21: Chart 11 - Average Interest Rates on 10-Year Treasury Bonds (%)
... B36: Quadro 12 - Revisão dos agregados orçamentais e suas componentes face à projeção apresentada no PEO abril 2026 (p.p. do PIB) | C36: Table 12 - Revision of budget aggregates and their components in relation to the projection presented in April 2026 (GDP p.p.)

Sheet Gráfico 1 | Chart 1
A1: Índice
B2: =+'Índice | Index'!$B$11 -> Gráfico 1 - Margens de absorção do choque petrolífero e taxa de facilidade de depósito BCE
B3: =+'Índice | Index'!$C$11 -> Chart 1 – Oil price shock absorption margins and the ECB deposit facility rate
B4: PT | EN
D5: Margens de absorção (choque petrolífero) - mar/mai, em milhões de barris por dia
D6: Absorption margins (oil shock) - Mar/May, in million barrels per day
D7: Jan-fev | E7: Impacto Ormuz | F7: Restante produção | G7: Redução consumo | H7: Petróleo "on water" | I7: Reservas | J7: Diferença
D8: Jan-Feb | E8: Hormuz impact | F8: Remaining production | G8: Consumprion reduction | H8: "On water" oil | I8: Reserves | J8: Difference
B9: Margens de absorção | D9: 2 | E9: -13.8 | F9: 1.8 | G9: 6 | H9: 1.1 | I9: 2.7 | J9: 0.2 | L9: Absorption margins
D14: Taxa de facilidade de depósito do BCE - expetativa implícita de mercado para dezembro de 2026
D15: ECB deposit facility rate - market-implied expectation for December 2026
D16: 1.5 | E16: 1.75 | F16: 2 | G16: 2.25 | H16: 2.5 | I16: 2.75 | J16: 3
B17: 46010 | D17: 0 | E17: 0 | F17: 0.8 | G17: 0.2 | H17: 0 | I17: 0 | J17: 0 | L17: 46010
B18: 46011 | D18: 0 | E18: 0 | F18: 0.8 | G18: 0.2 | H18: 0 | I18: 0 | J18: 0 | L18: 46011
B19: 46012 | D19: 0 | E19: 0 | F19: 0.8 | G19: 0.2 | H19: 0 | I19: 0 | J19: 0 | L19: 46012
B20: 46013 | D20: 0 | E20: 0 | F20: 0.8 | G20: 0.2 | H20: 0 | I20: 0 | J20: 0 | L20: 46013
B21: 46014 | D21: 0 | E21: 0 | F21: 0.8 | G21: 0.2 | H21: 0 | I21: 0 | J21: 0 | L21: 46014
B22: 46015 | D22: 0 | E22: 0 | F22: 0.8 | G22: 0.2 | H22: 0 | I22: 0 | J22: 0 | L22: 46015
B23: 46016 | D23: 0 | E23: 0 | F23: 0.8 | G23: 0.2 | H23: 0 | I23: 0 | J23: 0 | L23: 46016
B24: 46017 | D24: 0 | E24: 0 | F24: 0.8 | G24: 0.2 | H24: 0 | I24: 0 | J24: 0 | L24: 46017
B25: 46018 | D25: 0 | E25: 0 | F25: 0.8 | G25: 0.2 | H25: 0 | I25: 0 | J25: 0 | L25: 46018
B26: 46019 | D26: 0 | E26: 0 | F26: 0.8 | G26: 0.2 | H26: 0 | I26: 0 | J26: 0 | L26: 46019
B27: 46020 | D27: 0 | E27: 0 | F27: 0.8 | G27: 0.2 | H27: 0 | I27: 0 | J27: 0 | L27: 46020
B28: 46021 | D28: 0 | E28: 0 | F28: 0.8 | G28: 0.2 | H28: 0 | I28: 0 | J28: 0 | L28: 46021
... B281: 46274 | D281: 0 | E281: 0 | F281: 0 | G281: 0 | H281: 0.3 | I281: 0.6 | J281: 0.1 | L281: 46274
B283: Fontes: World Economic Outlook (FMI), julho 2026 e Financial Times.
B284: Source: World Economic Outlook (FMI), July 2026 and Financial Times.

Sheet Gráfico 2 | Chart 2
A1: Índice
B2: =+'Índice | Index'!$B$12 -> Gráfico 2 - Hipóteses técnicas
B3: =+'Índice | Index'!$C$12 -> Chart 2 – Technical assumptions
B4: PT | EN
D5: Preço do petróleo (USD) | H5: Taxa de câmbio EUR-USD | L5: Taxa Euribor a 3 meses (%)
D6: Oil prices (USD) | H6: EUR-USD exchange rate | L6: 3-month Euribor (%)
D7: set/26 | E7: abr/26 | F7: set/25 | H7: set/26 | I7: abr/26 | J7: set/25 | L7: set/26 | M7: abr/26 | N7: set/25
D8: Sep-26 | E8: Apr-26 | F8: Sep-25 | H8: Sep-26 | I8: Apr-26 | J8: Sep-25 | L8: Sep-26 | M8: Apr-26 | N8: Sep-25
B9: 45658 | D9: 77.8 | E9: 77.8 | F9: 77.8 | H9: 1.04 | I9: 1.04 | J9: 1.04 | L9: 3 | M9: 3 | N9: 3 | P9: 45658
B10: 45689 | D10: 74.8 | E10: 74.8 | F10: 74.8 | H10: 1.04 | I10: 1.04 | J10: 1.04 | L10: 2.8 | M10: 2.8 | N10: 2.8 | P10: 45689
B11: 45717 | D11: 71.4 | E11: 71.4 | F11: 71.4 | H11: 1.08 | I11: 1.08 | J11: 1.08 | L11: 2.6 | M11: 2.6 | N11: 2.6 | P11: 45717
B12: 45748 | D12: 66 | E12: 66 | F12: 66 | H12: 1.14 | I12: 1.14 | J12: 1.14 | L12: 2.4 | M12: 2.4 | N12: 2.4 | P12: 45748
B13: 45778 | D13: 63.8 | E13: 63.8 | F13: 63.8 | H13: 1.14 | I13: 1.14 | J13: 1.14 | L13: 2.3 | M13: 2.3 | N13: 2.3 | P13: 45778
B14: 45809 | D14: 69.7 | E14: 69.7 | F14: 69.7 | H14: 1.17 | I14: 1.17 | J14: 1.17 | L14: 2.1 | M14: 2.1 | N14: 2.1 | P14: 45809
B15: 45839 | D15: 69.4 | E15: 69.4 | F15: 69.4 | H15: 1.14 | I15: 1.14 | J15: 1.14 | L15: 2 | M15: 2 | N15: 2 | P15: 45839
B16: 45870 | D16: 67.1 | E16: 67.1 | F16: 67.1 | H16: 1.17 | I16: 1.17 | J16: 1.17 | L16: 2 | M16: 2 | N16: 2 | P16: 45870
B17: 45901 | D17: 67.5 | E17: 67.5 | F17: 67.5 | H17: 1.17 | I17: 1.17 | J17: 1.17 | L17: 2 | M17: 2 | N17: 2 | P17: 45901
B18: 45931 | D18: 67.2 | E18: 67.2 | F18: 67.2 | H18: 1.15 | I18: 1.15 | J18: 1.17 | L18: 2 | M18: 2 | N18: 2 | P18: 45931
B19: 45962 | D19: 66.8 | E19: 66.8 | F19: 66.8 | H19: 1.16 | I19: 1.16 | J19: 1.17 | L19: 2 | M19: 2 | N19: 1.9 | P19: 45962
B20: 45992 | D20: 66.5 | E20: 66.5 | F20: 66.5 | H20: 1.17 | I20: 1.17 | J20: 1.17 | L20: 2 | M20: 2 | N20: 1.9 | P20: 45992
... B67: 47423 | D67: 71.4 | E67: 73.2 | F67: 67.7 | H67: 1.16 | I67: 1.16 | J67: 1.17 | L67: 3.1 | M67: 2.7 | N67: 2.4 | P67: 47423
B68: 47453 | D68: 71.3 | E68: 73.2 | F68: - | H68: 1.16 | I68: 1.16 | J68: 1.17 | L68: 3.1 | M68: 2.7 | N68: 2.4 | P68: 47453
B69: 47484 | D69: 71.2 | E69: 73.1 | F69: - | H69: 1.16 | I69: 1.16 | J69: 1.17 | L69: 3.1 | M69: 2.7 | N69: 2.5 | P69: 47484
B70: 47515 | D70: 71.1 | E70: 73 | F70: - | H70: 1.16 | I70: 1.16 | J70: 1.17 | L70: 3.1 | M70: 2.7 | N70: 2.5 | P70: 47515
B71: 47543 | D71: 71.1 | E71: 73 | F71: - | H71: 1.16 | I71: 1.16 | J71: 1.17 | L71: 3.1 | M71: 2.8 | N71: 2.5 | P71: 47543
B72: 47574 | D72: 71 | E72: 72.9 | F72: - | H72: 1.16 | I72: 1.16 | J72: 1.17 | L72: 3.1 | M72: 2.8 | N72: 2.5 | P72: 47574
B73: 47604 | D73: 70.9 | E73: 72.9 | F73: - | H73: 1.16 | I73: 1.16 | J73: 1.17 | L73: 3.1 | M73: 2.8 | N73: 2.5 | P73: 47604
B74: 47635 | D74: 70.8 | E74: 72.8 | F74: - | H74: 1.16 | I74: 1.16 | J74: 1.17 | L74: 3.1 | M74: 2.8 | N74: 2.5 | P74: 47635
B75: 47665 | D75: 70.7 | E75: 72.7 | F75: - | H75: 1.16 | I75: 1.16 | J75: 1.17 | L75: 3.1 | M75: 2.8 | N75: 2.5 | P75: 47665
B76: 47696 | D76: 70.6 | E76: - | F76: - | H76: 1.16 | I76: 1.16 | J76: 1.17 | L76: 3.1 | M76: 2.8 | N76: 2.6 | P76: 47696
B77: 47727 | D77: 70.5 | E77: - | F77: - | H77: 1.16 | I77: 1.16 | J77: 1.17 | L77: 3.1 | M77: 2.8 | N77: 2.6 | P77: 47727
B78: 47757 | D78: 70.4 | E78: - | F78: - | H78: 1.16 | I78: 1.16 | J78: 1.17 | L78: 3.1 | M78: 2.8 | N78: 2.6 | P78: 47757
B79: 47788 | D79: 70.3 | E79: - | F79: - | H79: 1.16 | I79: 1.16 | J79: 1.17 | L79: 3.1 | M79: 2.8 | N79: 2.6 | P79: 47788
B80: 47818 | D80: 67.2 | E80: - | F80: - | H80: 1.16 | I80: 1.16 | J80: 1.17 | L80: 3.1 | M80: 2.8 | N80: 2.6 | P80: 47818
B82: Fonte: Macrobond.
B83: Source: Macrobond.

Sheet Gráfico 3 | Chart 3
A1: Índice
B2: =+'Índice | Index'!$B$13 -> Gráfico 3 - Crescimento do PIB e contributos
B3: =+'Índice | Index'!$C$13 -> Chart 3 – GDP growth and contributions
B4: PT | EN
B5: Taxa de variação semestral do PIB em volume e contributos (variação, %)
M6: Semi-annual growth rate of real GDP and contributions (change, %)
D7: 2023 | F7: 2024 | H7: 2025 | J7: 2026
D8: 1.º sem. | E8: 2.º sem. | F8: 1.º sem. | G8: 2.º sem. | H8: 1.º sem. | I8: 2.º sem. | J8: 1.º sem.
D9: 1st half | E9: 2nd half | F9: 1st half | G9: 2nd half | H9: 1st half | I9: 2nd half | J9: 1st half
B10: PIB (t.v.c., %) | D10: 1.9 | E10: 0.7 | F10: 1.3 | G10: 1 | H10: 0.6 | I10: 1.4 | J10: 1 | M10: GDP (change, %)
B11: Consumo privado | D11: 0.9 | E11: 0.3 | F11: 0.9 | G11: 1.5 | H11: 0.8 | I11: 1.3 | J11: 0.9 | M11: Private consumption
B12: Consumo público | D12: 0.1 | E12: 0.2 | F12: 0.1 | G12: 0.1 | H12: 0.1 | I12: 0.1 | J12: 0.1 | M12: Public consumption
B13: Investimento | D13: 0 | E13: 1.1 | F13: -0.3 | G13: 1 | H13: 0.4 | I13: 0.6 | J13: 1.1 | M13: Investment
B14: Exportações | D14: 1.2 | E14: -0.5 | F14: 1.6 | G14: 0.3 | H14: 0.1 | I14: -0.1 | J14: 1.3 | M14: Exports
B15: Importações | D15: -0.3 | E15: -0.4 | F15: -1 | G15: -1.9 | H15: -0.8 | I15: -0.5 | J15: -2.5 | M15: Imports
B18: Crescimento do PIB e contributos no cenário do CFP | M18: GDP growth and contributions in the CFP scenario
D19: 2025 | E19: 2026 | F19: 2027 | G19: 2028 | H19: 2029 | I19: 2030
B20: PIB real (t.v.a., %) | D20: 1.9 | E20: 2.2 | F20: 1.8 | G20: 1.7 | H20: 1.7 | I20: 1.6 | K20: Real GDP (y-o-y, %)
B21: Procura interna (p.p.) | D21: 3.7 | E21: 3.6 | F21: 1.9 | G21: 1.8 | H21: 1.9 | I21: 1.8 | K21: Domestic demand (p.p.)
B22: Exportações líquidas (p.p.) | D22: -1.9 | E22: -1.5 | F22: 0 | G22: -0.1 | H22: -0.2 | I22: -0.2 | K22: Net exports (p.p.)
B23: Cenário de abril de 2026 | D23: 1.9 | E23: 1.6 | F23: 1.8 | G23: 1.7 | H23: 1.7 | I23: 1.6 | K23: April 2026 scenario
B25: Fontes: INE; projeções e cálculos CFP.
B26: Sources: Statistics Portugal; CFP projections and calculations

Sheet Gráfico 4 | Chart 4
A1: Índice
B2: =+'Índice | Index'!$B$14 -> Gráfico 4 - Consumo privado e investimento
B3: =+'Índice | Index'!$C$14 -> Chart 4 – Private consumption and investment
B4: PT | EN
B5: Rendimento disponível nominal (contributos, p.p.) | K5: Nominal disposable income (contributions, p.p.)
D6: 2025 | E6: 2026 | F6: 2027 | G6: 2028 | H6: 2029 | I6: 2030
B7: Rendimento disponível (t.v.a., %) | D7: 5.8 | E7: 5.1 | F7: 5 | G7: 3.8 | H7: 3.2 | I7: 3.1 | K7: Gross disposable income (change, %)
B8: Remuneração por trabalhador | D8: 3.2 | E8: 3.3 | F8: 2.8 | G8: 2.2 | H8: 2 | I8: 1.6 | K8: Compensation per employee
B9: Outros rendimentos | D9: 1.7 | E9: 0.9 | F9: 0.5 | G9: 0.8 | H9: 0.9 | I9: 1 | K9: Other income
B10: Emprego | D10: 1.6 | E10: 1.2 | F10: 0.8 | G10: 0.4 | H10: 0.2 | I10: 0 | K10: Employment
B11: Impostos, prest. e transf. líquidas | D11: -0.7 | E11: -0.3 | F11: 1 | G11: 0.3 | H11: 0.1 | I11: 0.5 | K11: Taxes and net social contributions
B14: FBCF (t.v.a., %) | K14: GFCF (annual rate of change, %)
D15: 2025 | E15: 2026 | F15: 2027 | G15: 2028 | H15: 2029 | I15: 2030
B16: FBCF (t.v.a., %) | D16: 3.8 | E16: 5.9 | F16: 1.5 | G16: 1.5 | H16: 2.8 | I16: 2.8 | K16: GFCF (annual change, %)
B17: Cont. FBCF privada (p.p.) | D17: 2.1 | E17: 3.3 | F17: 2.5 | G17: 2.2 | H17: 1.9 | I17: 1.8 | K17: Private GFCF cont.
B18: Cont. FBCF pública (p.p.) | D18: 1.7 | E18: 2.6 | F18: -1 | G18: -0.7 | H18: 0.8 | I18: 1 | K18: Public GFCF cont.
B19: Cenário de abril de 2026 | D19: 3.6 | E19: 4.3 | F19: 1.1 | G19: 1.4 | H19: 1.3 | I19: 1.2 | K19: April 2026 scenario
B21: Fontes: INE; projeções e cálculos CFP.
B22: Sources: Statistics Portugal; CFP projections and calculations.

Sheet Gráfico 5 | Chart 5
A1: Índice
B2: =+'Índice | Index'!$B$15 -> Gráfico 5 - Indicadores de preços e mercado de trabalho
B3: =+'Índice | Index'!$C$15 -> Chart 5 – Price and labour market indicators
B4: PT | EN
B5: IHPC (variação, %) | K5: HICP (change, %)
D6: 2025 | E6: 2026 | F6: 2027 | G6: 2028 | H6: 2029 | I6: 2030
B7: IHPC | D7: 2.2 | E7: 3.2 | F7: 2.6 | G7: 2.3 | H7: 2.1 | I7: 2 | K7: HICP
B8: Cenário de abril de 2026 | D8: 2.2 | E8: 2.9 | F8: 2.3 | G8: 2.1 | H8: 2 | I8: 2 | K8: April 2026 scenario
B11: Emprego (variação, %) | K11: Employment (change, %)
D12: 2025 | E12: 2026 | F12: 2027 | G12: 2028 | H12: 2029 | I12: 2030
B13: Emprego | D13: 2.3 | E13: 1.7 | F13: 1.1 | G13: 0.5 | H13: 0.3 | I13: 0 | K13: Employment
B14: Cenário de abril de 2026 | D14: 2.3 | E14: 1.4 | F14: 0.7 | G14: 0.3 | H14: 0.1 | I14: 0 | K14: April 2026 scenario
B16: Fontes: INE; projeções e cálculos CFP.
B17: Sources: Statistics Portugal; CFP projections and calculations.

Sheet Gráfico 6 | Chart 6
A1: Índice
B2: =+'Índice | Index'!$B$16 -> Gráfico 6 - Cenários para a evolução do preço das matérias-primas energéticas
B3: =+'Índice | Index'!$C$16 -> Chart 6 - Scenarios for the evolution of energy commodity prices
B4: PT | EN
D5: Preço do barril de brent ($/bbl) | I5: Preço do gás natural liquefeito na Europa (€/MWh)
D6: Brent crude oil price ($/bbl) | I6: Liquefied natural gas price in Europe (€/MWh)
D7: Baseline | E7: Moderado | F7: Adverso | G7: Severo | I7: Baseline | J7: Moderado | K7: Adverso | L7: Severo
D8: Baseline | E8: Moderate | F8: Adverse | G8: Severe | I8: Baseline | J8: Moderate | K8: Adverse | L8: Severe
B9: 2026 T1 | D9: 77.3 | E9: 77.3 | F9: 77.3 | G9: 77.3 | H9: 0 | I9: 39.7 | J9: 39.7 | K9: 39.7 | L9: 39.7 | N9: 2026 Q1
B10: T2 | D10: 96.6 | E10: 96.6 | F10: 96.6 | G10: 96.6 | H10: 0 | I10: 45.8 | J10: 45.8 | K10: 45.8 | L10: 45.8 | N10: Q2
B11: T3 | D11: 87.8 | E11: 87.8 | F11: 87.8 | G11: 87.8 | H11: 0 | I11: 62.7 | J11: 62.7 | K11: 62.7 | L11: 62.7 | N11: Q3
B12: T4 | D12: 89.4 | E12: 79 | F12: 103 | G12: 136.7 | H12: 0 | I12: 71.5 | J12: 59.7 | K12: 91.7 | L12: 154.3 | N12: Q4
B13: 2027 T1 | D13: 83 | E13: 72 | F13: 97 | G13: 130.3 | H13: 0 | I13: 69.1 | J13: 55.9 | K13: 89 | L13: 145.8 | N13: 2027 Q1
B14: T2 | D14: 79.6 | E14: 67.6 | F14: 93.4 | G14: 125 | H14: 0 | I14: 50.1 | J14: 40 | K14: 64.7 | L14: 100.4 | N14: Q2
B15: T3 | D15: 77.6 | E15: 65.7 | F15: 92.6 | G15: 125.8 | H15: 0 | I15: 46.9 | J15: 39.2 | K15: 58.2 | L15: 92.7 | N15: Q3
B16: T4 | D16: 76.3 | E16: 64.3 | F16: 89.7 | G16: 121.1 | H16: 0 | I16: 46.5 | J16: 37.1 | K16: 60 | L16: 99.9 | N16: Q4
B17: 2028 T1 | D17: 75.2 | E17: 62.2 | F17: 90.6 | G17: 119.7 | H17: 0 | I17: 44 | J17: 34.6 | K17: 56.6 | L17: 89 | N17: 2028 Q1
B18: T2 | D18: 74.4 | E18: 63 | F18: 87.3 | G18: 117.8 | H18: 0 | I18: 32.4 | J18: 25.3 | K18: 42.3 | L18: 66.5 | N18: Q2
B19: T3 | D19: 73.7 | E19: 63.4 | F19: 86.2 | G19: 118.4 | H19: 0 | I19: 31 | J19: 24.2 | K19: 40.6 | L19: 65.2 | N19: Q3
B20: T4 | D20: 73.1 | E20: 62 | F20: 84.8 | G20: 115.4 | H20: 0 | I20: 31.8 | J20: 24.8 | K20: 42.3 | L20: 68.1 | N20: Q4
... B28: T4 | D28: 70.3 | E28: 69.7 | F28: 70.5 | G28: 71.5 | H28: 0 | I28: 24.8 | J28: 24.5 | K28: 25.2 | L28: 25.5 | N28: Q4
B30: Fontes: BCE, cálculos CFP.
B31: Sources: ECB, CFP calculations.

Sheet Gráfico 7 | Chart 7
A1: Índice
B2: =+'Índice | Index'!$B$17 -> Gráfico 7 - Impactos dos choques estimados sobre a economia face ao cenário central
B3: =+'Índice | Index'!$C$17 -> Chart 7 - Estimated impacts of the shocks on the economy relative to the central scenario
B4: PT | EN
B5: Impacto na taxa de crescimento do PIB real (p.p.) | J5: Impact on the real GDP growth rate (p.p.)
D6: 2026 | E6: 2027 | F6: 2028 | G6: 2029 | H6: 2030
B7: Moderado | J7: Moderate
B8: Total | D8: 0 | E8: 0.2 | F8: 0 | G8: -0.1 | H8: -0.1 | J8: Total
B9: Petróleo | D9: 0 | E9: 0.1 | F9: 0 | G9: -0.1 | H9: -0.1 | J9: Oil
B10: Gás | D10: 0 | E10: 0 | F10: 0 | G10: 0 | H10: 0 | J10: Gas
B11: Incerteza | D11: - | E11: - | F11: - | G11: - | H11: - | J11: Uncertainty
B13: Adverso | J13: Adverse
B14: Total | D14: -0.1 | E14: -0.6 | F14: 0 | G14: 0.3 | H14: 0.2 | J14: Total
B15: Petróleo | D15: 0 | E15: -0.1 | F15: 0 | G15: 0.1 | H15: 0.1 | J15: Oil
B16: Gás | D16: 0 | E16: -0.1 | F16: 0 | G16: 0 | H16: 0 | J16: Gas
B17: Incerteza | D17: -0.1 | E17: -0.4 | F17: 0 | G17: 0.1 | H17: 0.1 | J17: Uncertainty
B19: Severo | J19: Severe
B20: Total | D20: -0.2 | E20: -1.1 | F20: 0.2 | G20: 0.6 | H20: 0.3 | J20: Total
B21: Petróleo | D21: -0.1 | E21: -0.5 | F21: 0.1 | G21: 0.3 | H21: 0.3 | J21: Oil
B22: Gás | D22: 0 | E22: -0.2 | F22: 0 | G22: 0.2 | H22: 0.2 | J22: Gas
B23: Incerteza | D23: -0.1 | E23: -0.4 | F23: 0.1 | G23: 0.1 | H23: -0.1 | J23: Uncertainty
B26: Impacto na taxa de inflação (p.p.) | J26: Impact on the inflation rate (p.p.)
D27: 2026 | E27: 2027 | F27: 2028 | G27: 2029 | H27: 2030
B28: Moderado | J28: Moderate
B29: Total | D29: -0.1 | E29: -0.5 | F29: -0.1 | G29: 0.2 | H29: 0.3 | J29: Total
B30: Petróleo | D30: -0.1 | E30: -0.4 | F30: -0.1 | G30: 0.1 | H30: 0.2 | J30: Oil
B31: Gás | D31: 0 | E31: -0.1 | F31: 0 | G31: 0 | H31: 0.1 | J31: Gas
B32: Incerteza | D32: - | E32: - | F32: - | G32: - | H32: - | J32: Uncertainty
B34: Adverso | J34: Adverse
B35: Total | D35: 0.2 | E35: 0.6 | F35: -0.5 | G35: -0.6 | H35: -0.4 | J35: Total
B36: Petróleo | D36: 0.1 | E36: 0.5 | F36: 0 | G36: -0.2 | H36: -0.2 | J36: Oil
B37: Gás | D37: 0 | E37: 0.2 | F37: 0 | G37: -0.1 | H37: -0.1 | J37: Gas
B38: Incerteza | D38: 0.1 | E38: 0 | F38: -0.5 | G38: -0.3 | H38: 0 | J38: Uncertainty
B40: Severo | J40: Severe
B41: Total | D41: 0.4 | E41: 2.1 | F41: -0.8 | G41: -1.1 | H41: -0.7 | J41: Total
B42: Petróleo | D42: 0.3 | E42: 1.6 | F42: 0.1 | G42: -0.5 | H42: -0.8 | J42: Oil
B43: Gás | D43: 0.1 | E43: 0.6 | F43: 0 | G43: -0.3 | H43: -0.4 | J43: Gas
B44: Incerteza | D44: 0.1 | E44: -0.1 | F44: -0.9 | G44: -0.3 | H44: 0.5 | J44: Uncertainty
B46: Fonte: cálculos CFP. | Nota: A título de exemplo, os -0,6 p.p. simulados como impacto na taxa de crescimento do PIB real para 2027 no cenário adverso implicam que o crescimento projetado para o PIB seria de 1,2%, face aos 1,8% do cenário central. Da mesma forma, a taxa de inflação em 2027 simulada seria de 3,2%, ao invés de 2,6%.
B49: Source: CFP calculations. | Note: As an example, the simulated -0.6 p.p. impact on the real GDP growth rate for 2027 in the adverse scenario implies that projected GDP growth would be 1.2%, compared with 1.8% in the central scenario. Similarly, the simulated inflation rate in 2027 would be 3.2%, instead of 2.6%.

Sheet Gráfico 8 | Chart 8
A1: Índice
B2: =+'Índice | Index'!B18 -> Gráfico 8 - Saldo orçamental (em % do PIB)
B3: =+'Índice | Index'!C18 -> Chart 8 - Budgetary balance (in % of GDP)
B4: PT | EN
B5: Saldo orçamental (painel esquerdo) | L5: Headline balance (left panel)
C7: 2023 | D7: 2024 | E7: 2025 | G7: 2026 | H7: 2027 | I7: 2028 | J7: 2029 | K7: 2030
B8: setembro 2026 | C8: 1.1 | D8: 0.6 | E8: 0.7 | G8: 0.2 | H8: -0.2 | I8: -0.5 | J8: -1 | K8: -1.7 | L8: September 2026
B9: abril 2026 | C9: 1.1 | D9: 0.6 | E9: 0.7 | G9: 0.1 | H9: -0.4 | I9: -0.6 | J9: -0.8 | K9: -1 | L9: April 2026
B11: Fonte: INE. Cálculos e projeções do CFP. | Nota: Os valores para o saldo orçamental e saldo excluindo empréstimos do PRR relativos ao período 2023-2026 encontram-se influenciados pelo efeito de medidas one-off, conforme se detalha no Quadro 8 em anexo.
B13: Source: INE. CFP calculations and projections. | Note: The figures for the budget balance and balance excluding RRP loans for the 2023-2026 period are influenced by the effect of one-off measures, as detailed in Table 8.
B16: Saldo orçamental excluindo empréstimos do PRR e one-offs (painel esquerdo) | L16: Headline balance excluding RRP loans and one-offs (right panel)
C18: 2023 | D18: 2024 | E18: 2025 | G18: 2026 | H18: 2027 | I18: 2028 | J18: 2029 | K18: 2030
B19: setembro 2026 | C19: 1.7 | D19: 0.8 | E19: 1 | G19: 0.8 | H19: 0 | I19: -0.5 | J19: -1 | K19: -1.7 | L19: September 2026
B20: abril 2026 | C20: 1.7 | D20: 0.8 | E20: 1 | G20: 0.7 | H20: -0.3 | I20: -0.6 | J20: -0.8 | K20: -1 | L20: April 2026
B22: Fonte: INE. Cálculos e projeções do CFP. | Nota: Os valores para o saldo orçamental e saldo excluindo empréstimos do PRR relativos ao período 2023-2026 encontram-se influenciados pelo efeito de medidas one-off, conforme se detalha no Quadro 8 em anexo.
B24: Source: INE. CFP calculations and projections. | Note: The figures for the budget balance and balance excluding RRP loans for the 2021-2027 period are influenced by the effect of one-off measures, as detailed in Table 8.

Sheet Gráfico 9 | Chart 9
A1: Índice
B2: =+'Índice | Index'!B19 -> Gráfico 9 - Despesa líquida 2026-2028 (em % e p.p.)
B3: =+'Índice | Index'!C19 -> Chart 9 - Net expenditure 2026-2028 (in % and p.p.)
B4: PT | EN
B5: Contributos para o crescimento anual
B6: Contributions to the growth rate | F6: (left panel)
C8: 2026 | D8: 2027 | E8: 2028
B9: Despesa líquida | C9: 7.4 | D9: 4.2 | E9: 4.5 | F9: Net expenditure
B10: Despesa corrente primária | C10: 5.5 | D10: 3.7 | E10: 3.9 | F10: Current Primary Expenditure
B11: FBCF | C11: 0.4 | D11: 0.4 | E11: 0.4 | F11: GFCF
B12: Other Capital Expenditure | C12: 0.7 | D12: -0.2 | E12: -0.2 | F12: Other Capital Expenditure
B13: Medidas discricionárias da Receita | C13: 0.8 | D13: 0.3 | E13: 0.4 | F13: Discretionary revenue measures
B16: Fonte: Cálculos e projeções do CFP. | Nota: D. Corr. Prim. – despesa corrente primária;(ii) Odk – outras despesas de capital e (iii) MDR, significa medidas discricionárias da receita. Um contributo positivo desta última reflete medidas de redução de receita, na sua quase globalidade de natureza fiscal que elevam a despesa líquida e consequentemente a sua taxa de crescimento. As despesas nacionais objeto de cofinanciamento por programas financiados pela União Europeia e despesas relativas aos programas da União inteiramente cobertas por receitas provenientes de fundos da União relativas a 2025 correspondem à estimativa do INE apuradas no âmbito da 1.ª notificação do PDE de março de 2026. Tratando-se de um primeiro reporte esse valor pode ser revisto. Para o restante horizonte temporal, o CFP assumiu como proxy de cofinanciamento por programas financiados pela União Europeia, a percentagem do cofinanciamento destes programas no conjunto da despesa financiada por fundos da União Europeia tendo com referência o ano de 2025.
B17: Source: CFP calculations and projections. | C. Prim. Exp. - current primary expenditure; (ii) Odk - other capital expenditure and (iii) DRM - discretionary revenue measures. A positive contribution from the latter reflects revenue reduction measures, almost entirely of a fiscal nature, which increase net expenditure and consequently its growth rate. National expenditure co-financed by programmes financed by the European Union and expenditure on Union programmes entirely covered by revenue from Union funds for 2025 corresponds to INE's estimate calculated within the scope of the 1st EDP notification of March 2026. As this is a first report, this figure may be revised.For the rest of the time horizon, the CFP assumed as a proxy for co-financing by EU-funded programmes, the percentage of co-financing of these programmes in the total expenditure financed by EU funds with reference to the year 2025.
B19: Desvio anual face ao compromisso assumido pelo Estado português no POEN-MP e aprovado pelo Conselho da União Europeia (% do PIB)
B20: Annual deviation from the commitment made by the Portuguese Government in the MTP and approved by the Council of the European Union (% GDP) | F20: (right panel)
C22: 2026 | D22: 2027 | E22: 2028
B23: PEO set 26 | C23: 7.4 | D23: 4.2 | E23: 4.5 | F23: PEO Sep26
B24: PEO abr 26 | C24: 6.9 | D24: 3.9 | E24: 4.1 | F24: PEO Apr26
B25: Compromisso POEN-MP aprovado pelo Conselho da U.E. | C25: 5.1 | D25: 1.2 | E25: 3.3 | F25: MTP commitment approved by the EU Council
B28: Fonte: MF. Projeção do CFP
B29: Source: MF. CFP Projection

Sheet Gráfico 10 | Chart 10
A1: Índice
B2: =+'Índice | Index'!$B$20 -> Gráfico 10 - Evolução da dívida pública (em % do PIB)
B3: =+'Índice | Index'!$C$20 -> Chart 10 - Public debt developments (in % of GDP)
B4: PT | EN
E5: Projeção CFP
E6: CFP Projection
C7: 2025 | E7: 2026 | F7: =E7+1 -> 2027 | G7: =F7+1 -> 2028 | H7: =G7+1 -> 2029 | I7: =H7+1 -> 2030
B8: CFP/2026 abr | C8: 89.7 | E8: 86.5 | F8: 84.5 | G8: 83.1 | H8: 82.1 | I8: 81.5 | J8: CFP/2026 apr
B9: CFP/2026 set | C9: 89.7 | E9: 85.9 | F9: 83.5 | G9: 81.9 | H9: 80.6 | I9: 79.8 | J9: CFP/2026 set
B11: Fonte: BdP e INE. Cálculos e projeções do CFP.
B12: Source: BoP and Statistics Portugal. CFP calculations and projections.

Sheet Gráfico 11 | Chart 11
A1: Índice
B2: =+'Índice | Index'!$B$21 -> Gráfico 11 - Taxas de juro médias das Obrigações do Tesouro a 10 anos (em %)
B3: =+'Índice | Index'!$C$21 -> Chart 11 - Average Interest Rates on 10-Year Treasury Bonds (%)
B4: PT | EN
C7: Alemanha | D7: Portugal | E7: EUA | F7: Japão
C8: Germany | D8: Portugal | E8: USA | F8: Japan
B9: 2000-2008 | C9: 4.3 | D9: 4.5 | E9: 4.6 | F9: 1.5
B10: 2009-2014 | C10: 2.2 | D10: 6.7 | E10: 2.7 | F10: 1
B11: 2015-2025 | C11: 0.8 | D11: 2.1 | E11: 2.6 | F11: 0.3
B12: 46266 | C12: 3 | D12: 3.4 | E12: 4.5 | F12: 2.5
B14: Fonte: Macrobond.
B15: Source: Macrobond.

Sheet Gráfico 12 | Chart 12
A1: Índice
B2: ='Índice | Index'!B22 -> Gráfico 12 - Efeitos e contributos para a revisão do saldo orçamental (p.p. do PIB)
B3: ='Índice | Index'!C22 -> Chart 12 - Effects and contributions to the revision of the budgetary balance (GDP p.p.)
B5: PT | EN
C7: 2026 | D7: 2027 | E7: 2028 | F7: 2029 | G7: 2030
B8: Revisão saldo | C8: 0.1 | D8: 0.2 | E8: 0.2 | F8: -0.3 | G8: -0.7 | H8: Headline Balance (Revision)
B9: Rec. fiscal e contributiva | C9: -0.3 | D9: 0 | E9: 0.1 | F9: 0.1 | G9: 0 | H9: Tax and Contributory revenue
B10: Desp. corr. Primária s/ Fundos UE | C10: 0.2 | D10: 0.2 | E10: 0.2 | F10: 0.2 | G10: 0.2 | H10: Curr. Prim. Expenditure excluding EU funds
B11: Desp. capital s/ Fundos UE | C11: 0.1 | D11: -0.1 | E11: 0 | F11: -0.3 | G11: -0.6 | H11: Capital Expenditure excluding EU funds
B12: Outros | C12: 0 | D12: 0 | E12: -0.1 | F12: -0.2 | G12: -0.2 | H12: Others
B14: Fonte: Projeção e cálculos CFP. | Notas: 1. A comparação é feita expurgando os fundos europeus com efeito neutro no saldo orçamental (subvenções). 2. No gráfico, um aumento (diminuição) da receita corresponde a uma revisão favorável (desfavorável) do saldo orçamental. Pelo contrário, do lado da despesa, um aumento (diminuição) implica uma revisão desfavorável (favorável) do saldo. 3. A despesa com juros encontra-se incluída em “Outros”, justificando integralmente a revisão desta componente nos anos de 2028 a 2030.
B18: Source: CFP projection and calculations. | Notes: 1. The comparison is made excluding European funds with a neutral effect on the budget balance (grants). 2. In the graph, an increase (decrease) in revenue corresponds to a favourable (unfavourable) revision of the budget balance. Conversely, on the expenditure side, an increase (decrease) implies an unfavourable (favourable) revision of the balance. 3. Interest expenditure is included under ‘Other’, justifying the revision of this component for the years 2028 to 2030.

Sheet Quadro 1 | Table 1
A1: Índice
B2: =+'Índice | Index'!$B$25 -> Quadro 1 - Hipóteses técnicas para o enquadramento externo
B3: =+'Índice | Index'!$C$25 -> Table 1 - Technical assumptions for the external economic environment
B4: PT | EN
D5: 2025 | F5: 2026 | G5: 2027 | H5: 2028 | I5: 2029 | J5: 2030
B6: Hipóteses técnicas | L6: Technical assumptions
B7: Procura externa (variação, %) | D7: 3.9 | F7: 1.6 | G7: 2.3 | H7: 2.5 | I7: 2.5 | J7: 2.4 | L7: Foreign demand (change, %)
B8: Preço das exportações dos principais parceiros | D8: 0.7 | F8: 2.2 | G8: 1.1 | H8: 1.4 | I8: 1.8 | J8: 1.9 | L8: Main trading partners' export prices
B9: Taxa de juro de curto prazo (Euribor 3M, %) | D9: 2.2 | F9: 2.4 | G9: 3 | H9: 3.1 | I9: 3.1 | J9: 3.1 | L9: Short-term interest rate (Euribor 3M, %)
B10: Taxa de câmbio EUR-USD | D10: 1.13 | F10: 1.16 | G10: 1.16 | H10: 1.16 | I10: 1.16 | J10: 1.16 | L10: EUR-USD Exchange rate
B11: Preço do petróleo (Brent, Eur) | D11: 60.5 | F11: 75.5 | G11: 68 | H11: 63.7 | I11: 61.9 | J11: 60.8 | L11: Oil prices (Brent, Eur)
B12: Preço do Gás Natural (€/MWh) | D12: 36.2 | F12: 50.8 | G12: 45.7 | H12: 29.9 | I12: 23.7 | J12: 22.8 | L12: Natural gas prices (€/MWh)
B13: População em idade ativa (15-74 anos, variação, %) | D13: 1.5 | F13: 0.6 | G13: 0.5 | H13: 0.3 | I13: 0 | J13: -0.2 | L13: Working-age population (15-74 years, change, %)
B15: Fontes: BdP, CE, FMI, Macrobond e estimativas CFP. | Nota: A hipótese técnica para a taxa de câmbio EUR-USD pressupõe a manutenção ao longo do horizonte de projeção dos níveis médios observados nas duas semanas anteriores à data de fecho da informação (10 de setembro). A hipótese técnica para o preço do petróleo assenta nos contratos de futuros do barril de Brent em USD. A evolução da taxa Euribor a 3 meses tem por base as expectativas implícitas nos contratos de futuros para os anos 2026-2030.
B16: Sources: BdP, EC, IMF, Macrobond and CFP estimates. | Note: The technical assumption for the EUR-USD exchange rate assumes that the average rates observed in the two weeks prior to the information cut-off date (September 10th) will continue over the course of the projection time horizon. The technical assumption for the price of oil is based on future contracts for Brent oil in USD. The change in the 3-month Euribor is based on the expectations implicit in futures contracts for 2026-2030.

Sheet Quadro 2 | Table 2
A1: Índice
B2: =+'Índice | Index'!$B$26 -> Quadro 2 - Cenário macroeconómico do CFP
B3: =+'Índice | Index'!$C$26 -> Table 2 - CFP macroeconomic scenario
B4: PT | EN
D5: 2025 | F5: 2026 | G5: 2027 | H5: 2028 | I5: 2029 | J5: 2030
B6: PIB real e componentes (variação, %) | L6: Real GDP and components (change, %)
B7: PIB | D7: 1.9 | F7: 2.2 | G7: 1.8 | H7: 1.7 | I7: 1.7 | J7: 1.6 | L7: GDP
B8: Consumo privado | D8: 3.5 | F8: 3.2 | G8: 2.4 | H8: 2.1 | I8: 1.8 | J8: 1.6 | L8: Private consumption
B9: Consumo público | D9: 1.6 | F9: 1.7 | G9: 0.7 | H9: 0.7 | I9: 1 | J9: 1 | L9: Public consumption
B10: Investimento (FBCF) | D10: 3.8 | F10: 5.9 | G10: 1.5 | H10: 1.5 | I10: 2.8 | J10: 2.8 | L10: Investment (GFCF)
B11: Exportações | D11: 0.4 | F11: 3.6 | G11: 2.5 | H11: 2.5 | I11: 2.5 | J11: 2.4 | L11: Exports
B12: Importações | D12: 4.4 | F12: 6.5 | G12: 2.4 | H12: 2.5 | I12: 2.7 | J12: 2.6 | L12: Imports
B13: Contributos para a t.v.a. do PIB (p.p.) | L13: Contributions to real GDP change (p.p.)
B14: Procura interna | D14: 3.7 | F14: 3.6 | G14: 1.9 | H14: 1.8 | I14: 1.9 | J14: 1.8 | L14: Domestic demand
B15: Exportações líquidas | D15: -1.9 | F15: -1.5 | G15: 0 | H15: -0.1 | I15: -0.2 | J15: -0.2 | L15: Net exports
B16: Preços (variação, %) | L16: Prices (change, %)
B17: Deflator do PIB | D17: 3.9 | F17: 3.1 | G17: 2.8 | H17: 2.4 | I17: 2.3 | J17: 2 | L17: GDP deflator
B18: Deflator do consumo privado | D18: 2.5 | F18: 3.1 | G18: 2.7 | H18: 2.4 | I18: 2.2 | J18: 2 | L18: Private consumption deflator
B19: Deflator do consumo público | D19: 5.4 | F19: 4.4 | G19: 3 | H19: 2.4 | I19: 2.2 | J19: 2 | L19: Public consumption deflator
B20: Deflator do investimento (FBCF) | D20: 3.5 | F20: 3.8 | G20: 2.8 | H20: 2.2 | I20: 2 | J20: 2 | L20: Investment (GFCF) deflator
B21: Deflator das exportações | D21: 0.4 | F21: 3 | G21: 1.5 | H21: 1.6 | I21: 1.8 | J21: 2 | L21: Exports deflator
B22: Deflator das importações | D22: -1 | F22: 3.9 | G22: 1.4 | H22: 1.5 | I22: 1.7 | J22: 2 | L22: Imports deflator
B23: IHPC | D23: 2.2 | F23: 3.2 | G23: 2.6 | H23: 2.3 | I23: 2.1 | J23: 2 | L23: HICP
B24: PIB nominal | L24: Nominal GDP
B25: Variação (%) | D25: 5.9 | F25: 5.4 | G25: 4.7 | H25: 4.2 | I25: 4 | J25: 3.7 | L25: Change (%)
B26: Nível (mil M€) | D26: 307 | F26: 323 | G26: 338 | H26: 353 | I26: 367 | J26: 380 | L26: Level (€ billion)
B27: Rendimento das famílias | L27: Households' income
B28: Rendimento disponível nominal (variação, %) | D28: 5.8 | F28: 5.1 | G28: 5 | H28: 3.8 | I28: 3.2 | J28: 3.1 | L28: Nominal disposable income (change, %)
B29: Taxa de poupança (%) | D29: 12.3 | F29: 11.3 | G29: 11.1 | H29: 10.3 | I29: 9.5 | J29: 9.1 | L29: Savings rate (%)
B30: Mercado de trabalho (variação, %) | L30: Labour market (change, %)
B31: Taxa de desemprego (% pop. ativa) | D31: 6 | F31: 5.9 | G31: 5.8 | H31: 5.8 | I31: 5.7 | J31: 5.7 | L31: Unemployment rate (% labour force)
B32: Emprego | D32: 2.3 | F32: 1.7 | G32: 1.1 | H32: 0.5 | I32: 0.3 | J32: 0 | L32: Employment
B33: Remuneração média por trabalhador | D33: 4.8 | F33: 4.9 | G33: 3.9 | H33: 3.2 | I33: 2.8 | J33: 2.3 | L33: Compensation per employee
B34: Produtividade aparente do trabalho | D34: -0.4 | F34: 0.5 | G34: 0.8 | H34: 1.2 | I34: 1.4 | J34: 1.6 | L34: Apparent labour productivity
B35: Sector externo (% PIB) | L35: External sector (% GDP)
B36: Cap. líq. de financiamento face ao exterior | D36: 2.5 | F36: 1.9 | G36: 1.6 | H36: 0.1 | I36: -0.6 | J36: -0.8 | L36: Net lending
B37: Balança corrente | D37: 0.9 | F37: -0.1 | G37: -0.4 | H37: -1 | I37: -1.5 | J37: -1.6 | L37: Current account
B38: Balança de bens e serviços | D38: 0.9 | F38: -0.7 | G38: -0.6 | H38: -0.6 | I38: -0.6 | J38: -0.7 | L38: Trade balance
B39: Balança de rend. primários e transferências | D39: 0.1 | F39: 0.6 | G39: 0.2 | H39: -0.4 | I39: -0.9 | J39: -0.9 | L39: Balance of primary income and transfers
B40: Balança de capital | D40: 1.5 | F40: 1.9 | G40: 2 | H40: 1.1 | I40: 0.9 | J40: 0.8 | L40: Capital account
...

Sheet Quadro 3 | Table 3
A1: Índice
B2: =+'Índice | Index'!B27 -> Quadro 3 - Cenário orçamental do CFP (em % e p.p. do PIB)
B3: =+'Índice | Index'!C27 -> Table 3 - CFP budgetary scenario (in % and p.p. of GDP)
B4: PT | EN
D5: 2025 INE | E5: Projeção CFP
E6: CFP Projection
E7: 2026 | F7: 2027 | G7: 2028 | H7: 2029 | I7: 2030 | J7: 2030-25
B8: Receita total | D8: 43.4 | E8: 44.2 | F8: 42.9 | G8: 41.7 | H8: 41.1 | I8: 40.5 | J8: -2.8 | L8: Total Revenue
B9: Receita corrente | D9: 42.1 | E9: 42.7 | F9: 41.8 | G9: 41.1 | H9: 40.6 | I9: 40.2 | J9: -1.9 | L9: Current revenue
B10: Receita fiscal | D10: 24.5 | E10: 24.5 | F10: 23.9 | G10: 23.7 | H10: 23.5 | I10: 23.3 | J10: -1.3 | L10: Tax Revenue
B11: Impostos indiretos | D11: 14.5 | E11: 14.5 | F11: 14.6 | G11: 14.7 | H11: 14.7 | I11: 14.6 | J11: 0.1 | L11: Indirect taxes
B12: Impostos diretos | D12: 10 | E12: 10.1 | F12: 9.2 | G12: 9 | H12: 8.8 | I12: 8.7 | J12: -1.4 | L12: Direct taxes
B13: Contribuições sociais | D13: 12.6 | E13: 12.8 | F13: 12.9 | G13: 12.8 | H13: 12.6 | I13: 12.4 | J13: -0.2 | L13: Social Contributions
B14: Vendas e out. receitas correntes | D14: 4.9 | E14: 5.4 | F14: 5.1 | G14: 4.6 | H14: 4.5 | I14: 4.4 | J14: -0.5 | L14: Sales and other current revenue
B15: Receita de capital | D15: 1.2 | E15: 1.4 | F15: 1.1 | G15: 0.6 | H15: 0.5 | I15: 0.4 | J15: -0.9 | L15: Capital Revenue
B16: Despesa primária | D16: 40.7 | E16: 42 | F16: 41 | G16: 39.9 | H16: 39.7 | I16: 39.7 | J16: -1 | L16: Primary Expenditure
B17: Despesa corrente primária | D17: 36.9 | E17: 37.4 | F17: 37 | G17: 36.5 | H17: 36.2 | I17: 36.1 | J17: -0.8 | L17: Current primary expenditure
B18: Consumo intermédio | D18: 5.1 | E18: 5.2 | F18: 5.1 | G18: 4.9 | H18: 4.9 | I18: 4.8 | J18: -0.3 | L18: Intermediate consumption
B19: Despesa com pessoal | D19: 10.6 | E19: 10.7 | F19: 10.7 | G19: 10.6 | H19: 10.6 | I19: 10.5 | J19: -0.1 | L19: Compensation of employees
... B31: Dívida pública | D31: 89.7 | E31: 85.9 | F31: 83.5 | G31: 81.9 | H31: 80.6 | I31: 79.8 | J31: -9.8 | L31: Public Debt
B32: Por memória: | L32: Memo items:
B33: Receita Fiscal e Contributiva | D33: 37.2 | E33: 37.4 | F33: 36.7 | G33: 36.5 | H33: 36.1 | I33: 35.7 | J33: -1.5 | L33: Tax Revenue and Social Contibutions
B34: Receita Não Fiscal e Não Contributiva | D34: 6.2 | E34: 6.8 | F34: 6.2 | G34: 5.2 | H34: 5 | I34: 4.8 | J34: -1.4 | L34: Non social contributions and non tax revenue
B35: Empréstimos PRR | D35: 0.3 | E35: 0.4 | F35: 0.2 | G35: 0 | H35: 0 | I35: 0 | J35: -0.3 | L35: RRP loans
B36: Fontes: INE (2025) e projeção CFP. | Nota: Os valores de 2025 e 2026 encontram-se influenciados pelo efeito de medidas one-off, conforme se detalha no Quadro 8, em anexo. O Quadro 10, em anexo, apresenta este cenário ajustado de medidas one-off. Os totais não correspondem necessariamente à soma das parcelas devido a arredondamentos.
B37: Sources: INE (2025) and CFP projection. | Note: The values for 2025 and 2026 are influenced by the effect of one-off measures, as detailed in Annex Table 8. Annex Table 10 presents this scenario adjusted for one-off measures. Totals may not necessarily equal the sum of components due to rounding.
K40: =ROUND(K8,1) -> 0

Sheet Quadro 4 | Table 4
A1: Índice
B2: =+'Índice | Index'!B28 -> Quadro 4 - Contributos para a evolução da dívida de Maastricht (em % do PIB)
B3: =+'Índice | Index'!C28 -> Table 4 - Contributions to Maastricht debt developments (as % of GDP)
C5: PT | EN
I6: Projeção CFP
I7: CFP projection
G8: 2025 | I8: =G8+1 -> 2026 | J8: =I8+1 -> 2027 | K8: =J8+1 -> 2028 | L8: =K8+1 -> 2029 | M8: =L8+1 -> 2030
B9: Dívida Pública (% do PIB) | G9: 89.7 | I9: 85.9 | J9: 83.5 | K9: 81.9 | L9: 80.6 | M9: 79.8 | N9: Public debt (% of GDP)
C10: Variação da dívida (p.p. do PIB) | G10: -3.8 | I10: -3.7 | J10: -2.5 | K10: -1.6 | L10: -1.3 | M10: -0.7 | O10: Change in debt (in p.p. of GDP)
D11: Efeito saldo primário | G11: -2.6 | I11: -2.1 | J11: -1.9 | K11: -1.8 | L11: -1.4 | M11: -0.8 | P11: Primary balance effect
D12: Efeito dinâmico (bola de neve) | G12: -3.2 | I12: -2.6 | J12: -1.8 | K12: -1.1 | L12: -0.8 | M12: -0.4 | P12: Dynamic effect (snow ball effect)
E13: - efeito juros | G13: 1.9 | I13: 1.9 | J13: 2.1 | K13: 2.2 | L13: 2.4 | M13: 2.5 | Q13: - interest effect
E14: - efeito crescimento | G14: -5.2 | I14: -4.6 | J14: -3.8 | K14: -3.4 | L14: -3.2 | M14: -2.8 | Q14: - growth effect
F15: ef. preço | G15: -3.5 | I15: -2.7 | J15: -2.3 | K15: -2 | L15: -1.8 | M15: -1.6 | R15: price effect
F16: ef. crescimento real | G16: -1.7 | I16: -1.9 | J16: -1.5 | K16: -1.4 | L16: -1.4 | M16: -1.3 | R16: real growth effect
D17: Ajust. défice-dívida | G17: 2 | I17: 1 | J17: 1.2 | K17: 1.3 | L17: 0.9 | M17: 0.4 | P17: Stock-flow adjustment
C18: por memória: | O18: memo item:
C19: Taxa de juro implícita | G19: 2.2 | I19: 2.3 | J19: 2.5 | K19: 2.8 | L19: 3.1 | M19: 3.2 | O19: Implicit interest rate
B21: Fonte: BdP, INE e MF. Cálculos e projeções do CFP.
B22: Source: BoP, Statistics Portugal and MF. CFP calculations and projections.

Sheet Quadro 5 | Table 5
A1: Índice
B2: ='Índice | Index'!B29 -> Quadro 5 - Impacto incremental das medidas de política e de outros efeitos (variação face ao ano anterior em ME e em p.p. do PIB)
B3: ='Índice | Index'!C29 -> Table 5 - Incremental impact of policy measures and other effects (YoY change in million euros and in p.p. of GDP)
B5: PT | EN
D6: Projeção CFP
D7: CFP Projection
D8: Variação em M€ | J8: Variação em p.p. do PIB
D9: Change in M € | J9: Change in p.p. of GDP
D10: 2026 | E10: 2027 | F10: 2028 | G10: 2029 | H10: 2030 | J10: 2026 | K10: 2027 | L10: 2028 | M10: 2029 | N10: 2030
B11: Receita total | D11: 155 | E11: -2411 | F11: -729 | G11: -732 | H11: -398 | J11: 0 | K11: -0.7 | L11: -0.2 | M11: -0.2 | N11: -0.1 | P11: Total revenue
B12: Receita corrente | D12: 155 | E12: -2411 | F12: -729 | G12: -732 | H12: -398 | J12: 0 | K12: -0.7 | L12: -0.2 | M12: -0.2 | N12: -0.1 | P12: Current revenue
B13: Receita fiscal | D13: 189 | E13: -2411 | F13: -729 | G13: -732 | H13: -398 | J13: 0 | K13: -0.7 | L13: -0.2 | M13: -0.2 | N13: -0.1 | P13: Tax revenue
B14: Impostos indiretos | D14: 87 | E14: 239 | F14: 0 | G14: 0 | H14: 0 | J14: 0 | K14: 0.1 | L14: 0 | M14: 0 | N14: 0 | P14: Indirect taxes
B15: Impostos diretos | D15: 102 | E15: -2650 | F15: -729 | G15: -732 | H15: -398 | J15: 0 | K15: -0.8 | L15: -0.2 | M15: -0.2 | N15: -0.1 | P15: Direct taxes
B16: Contribuições sociais | D16: 0 | E16: 0 | F16: 0 | G16: 0 | H16: 0 | J16: 0 | K16: 0 | L16: 0 | M16: 0 | N16: 0 | P16: Social contributions
B17: Vendas e out. receitas correntes | D17: -35 | E17: 0 | F17: 0 | G17: 0 | H17: 0 | J17: 0 | K17: 0 | L17: 0 | M17: 0 | N17: 0 | P17: Sales & other current revenues
B18: Receita de capital | D18: 0 | E18: 0 | F18: 0 | G18: 0 | H18: 0 | J18: 0 | K18: 0 | L18: 0 | M18: 0 | N18: 0 | P18: Capital revenue
B19: Despesa primária | D19: 1514 | E19: -1002 | F19: 158 | G19: 1114 | H19: 1186 | J19: 0.5 | K19: -0.3 | L19: 0 | M19: 0.3 | N19: 0.3 | P19: Primary expenditure
B20: Despesa corrente primária | D20: 996 | E20: -787 | F20: 153 | G20: 7 | H20: 0 | J20: 0.3 | K20: -0.3 | L20: 0 | M20: 0 | N20: 0 | P20: Current primary expenditure
B21: Consumo intermédio | D21: 6 | E21: -6 | F21: 0 | G21: 0 | H21: 0 | J21: 0 | K21: 0 | L21: 0 | M21: 0 | N21: 0 | P21: Intermediate consumption
B22: Despesa com pessoal | D22: 348 | E22: 309 | F22: 117 | G22: 16 | H22: 0 | J22: 0.1 | K22: 0.1 | L22: 0 | M22: 0 | N22: 0 | P22: Compensation of employees
... B29: Saldo orçamental | D29: -1359 | E29: -1409 | F29: -887 | G29: -1846 | H29: -1584 | J29: -0.4 | K29: -0.4 | L29: -0.2 | M29: -0.5 | N29: -0.4 | P29: Budget balance
B30: Por memória: | P30: Memo items:
B31: Variação do saldo, decorrente de: | P31: Budget balance change due to:
B32: Medidas de política | D32: -1586 | E32: 29 | F32: -634 | G32: -532 | H32: -199 | J32: -0.5 | K32: 0 | L32: -0.2 | M32: -0.1 | N32: 0 | P32: Policy measures
B33: Outros efeitos | D33: 813 | E33: -2240 | F33: -253 | G33: -1314 | H33: -1385 | J33: 0.2 | K33: -0.7 | L33: -0.1 | M33: -0.3 | N33: -0.3 | P33: Other effects
B34: One-offs | D34: -585 | E34: 803 | F34: 0 | G34: 0 | H34: 0 | J34: -0.2 | K34: 0.2 | L34: 0 | M34: 0 | N34: 0 | P34: One-offs
B36: Fonte: MF. Cálculos do CFP. | Notas: os valores traduzem a variação face ao ano anterior: por exemplo, estima-se que em 2027 as medidas de política económica impliquem uma diminuição dos impostos diretos de 2650 M€ e um aumento das despesas com pessoal de 309 M€ face a 2026; as principais medidas de política económica e outros efeitos considerados na projeção do CFP são identificados no Quadro 6 e no Quadro 7, em anexo.
B37: Source: MF. CFP Calculations. | Notes: The values reflect year-on-year changes. For instance, in 2027, economic policy measures are projected to lead to a decrease of €2650M in direct taxes and an increase of €309M in compensation of employees compared to 2026. The main economic policy measures and other factors accounted for in the CFP projection are outlined in Tables 6 and 7 in the Annex.

Sheet Quadro 6 | Table 6
A1: Índice
B2: =+'Índice | Index'!B30 -> Quadro 6 - Impacto incremental das medidas de política consideradas na projeção do CFP (variação face ao ano anterior, por medida, em M€)
B3: =+'Índice | Index'!C30 -> Table 6 - Incremental impact of policy measures considered in CFP's projection (YoY change in million euros)
B5: PT | EN
B6: Designação | D6: Variação em M€ | J6: Designation
D7: Change in M €
D8: 2026 | E8: 2027 | F8: 2028 | G8: 2029 | H8: 2030
B9: Receita | D9: -977 | E9: -366 | F9: -480 | G9: -525 | H9: -204 | J9: Total Revenue
B10: Receita corrente | D10: -977 | E10: -366 | F10: -480 | G10: -525 | H10: -204 | J10: Current revenue
B11: Receita fiscal | D11: -942 | E11: -366 | F11: -480 | G11: -525 | H11: -204 | J11: Tax revenue
B12: Impostos indiretos | D12: 87 | E12: 239 | J12: Indirect taxes
B13: Pacote Habitação: Redução do IVA da construção de 23% para 6% | E13: -94 | J13: Housing Package: Reduction of the VAT rate on construction from 23% to 6%
B14: Alteração ISP e atualização da taxa de carbono | D14: 173 | J14: Update of the fuel and carbon taxes
B15: Desconto ISP Temporário - Conflito Irão (9 meses) | D15: -295 | E15: 295 | J15: Temporary Petroleum Tax Discount - Iran conflit (9 months)
B16: Fim da isenção biocombustíveis (Reversão) | D16: 156 | J16: End of the exemption for advanced biofuels
B17: Taxa única de IMT para não residentes | D17: 53 | E17: 38 | J17: Single Real Estate Tax Rate for Non Residents
B18: Impostos diretos | D18: -1029 | E18: -605 | F18: -480 | G18: -525 | H18: -204 | J18: Direct Taxes
B19: Pacote IRS 2024 | J19: 2024 PIT Package
B20: IRS Jovem | D20: 144 | J20: Youth PIT Regime
B21: Aumento dedução despesas com habitação | D21: -17 | E21: -36 | F21: -18 | J21: Increase in the Tax Deduction for Housing Expenses
B22: Pacote IRS 2025 | J22: 2025 PIT Package
B23: IRS Jovem | D23: -510 | J23: Youth PIT Regime
B24: Pacote IRS 2026 | J24: 2026 PIT Package
B25: Redução taxas | D25: -33 | J25: Tax Rate Reductions
B26: Atualização ME | D26: -121 | J26: PIT | Update of minimum subsistence limit
B27: Atualização automática das deduções específicas de IRS pelo valor do IAS | D27: -108 | E27: -102 | F27: -99 | G27: -97 | H27: -86 | J27: Automatic Indexation of Personal Income Tax (IRS) Specific Deductions to the Social Support Index (IAS)
B28: Atualização automática dos escalões (componente de produtividade na parte que excede a inflação) | D28: 37 | E28: -41 | F28: -55 | G28: -105 | H28: -118 | J28: PIT | Automatic update of brackets (productivity component in the part exceeding inflation)
B29: Pacote Habitação: Redução IRS rendas moderadas de 25% para 10% | E29: -209 | J29: Housing Package: Reduction of the PIT Rate on Moderate Rents from 25% to 10%
B30: Reforço dos Incentivos em sede IRC para a capitalização de empresas (ICE) | D30: -136 | J30: Strengthening of Corporate Income Tax (IRC) Incentives for Business Capitalisation (ICE)
B31: Incentivo fiscal à recuperação - IFR e outros relacionados | J31: Tax Incentive for Recovery (IFR) and Other Related Measures
B32: Regime Fiscal de Apoio ao Investimento (RFAI) | D32: 8 | J32: Tax Regime for Investment Promotion (RFAI)
B33: Sistema de Incentivos Fiscais à I&D Empresarial (SIFIDE) | D33: 12 | J33: Tax Incentive System for Business R&D (SIFIDE)
B34: Incentivo Fiscal à Recuperação | D34: 13 | J34: Tax Incentive for Recovery
B35: Crédito fiscal extraordinário para investimento (2021, COVID) | D35: 10 | J35: Extraordinary Investment Tax Credit (2021, COVID-19)
B36: Redução de 1 p.p. na taxa normal e reduzida de IRC (2025) | D36: -328 | J36: CIT | 1 p.p. reduction in the standard and reduced CIT rates
B37: Redução de 1pp na taxa normal de IRC em 2026, 2027 e 2028 e de 1pp na taxa reduzida em 2026 | E37: -341 | F37: -308 | G37: -323 | J37: CIT | 1 p.p. reduction in the standard rate in 2026, 2027 and 2028, plus a 1 p.p. reduction in the reduced CIT rate in 2026
B38: SIFIDE indireto (reversão) | E38: 124 | J38: CIT | Indirect SIFIDE (reversal)
B39: Vendas | D39: -35 | J39: Sales
B40: Alargamento eliminação taxas de portagem ex-SCUT | D40: -35 | J40: Extension of Toll Elimination on Former SCUT Motorways
B41: Receita de Capital | D41: 0 | E41: 0 | F41: 0 | G41: 0 | H41: 0 | J41: Capital Revenue
...

Sheet Quadro 7 | Table 7
A1: Índice
B2: =+'Índice | Index'!B31 -> Quadro 7 – Impacto incremental de outros efeitos considerados na projeção do CFP (variação face ao ano anterior, por medida, em M€)
B3: =+'Índice | Index'!C31 -> Table 7 - Incremental impact of other effects considered in CFP's projection (YoY change in million euros)
B5: PT | EN
B6: Designação | D6: Variação em M€ | J6: Designation
D7: Change in M €
D8: 2026 | E8: 2027 | F8: 2028 | G8: 2029 | H8: 2030
B9: Receita | D9: 1131 | E9: -2045 | F9: -249 | G9: -207 | H9: -194 | J9: Total Revenue
B10: Receita corrente | D10: 1131 | E10: -2045 | F10: -249 | G10: -207 | H10: -194 | J10: Current revenue
B11: Receita Fiscal | D11: 1131 | E11: -2045 | F11: -249 | G11: -207 | H11: -194 | J11: Tax Revenue
B12: Impostos diretos | D12: 1131 | E12: -2045 | F12: -249 | G12: -207 | H12: -194 | J12: Direct taxes
B13: Atualização automática dos escalões (exclusivamente na componente da inflação) | D13: -359 | E13: -287 | F13: -249 | G13: -207 | H13: -194 | J13: Automatic indexation of tax brackets (inflation component only)
B14: Retenç. fonte IRS 2025 (atualiz. das retenções abaixo da atualiz. legal dos escalões) | D14: -293 | J14: PIT withholding in 2025 (update of withholding rates below the statutory adjustment of tax brackets)
B15: Retenç. fonte IRS 2026 (atualiz. das retenções abaixo da atualiz. legal dos escalões) | D15: 193 | E15: -193 | J15: PIT withholding in 2026 (update of withholding rates below the statutory adjustment of tax brackets)
B16: Med. Adm. Retenções IRS em 2024 e 2025 - Impacto por via das retenções na fonte | D16: 1565 | J16: Administrative measures on PIT withholding in 2024 and 2025 – impact through withholding at source
B17: Med. Adm. Retenções IRS em 2024 e 2025 - Impacto por via dos reemb/ n.cobrança | D17: 25 | E17: -1565 | J17: Administrative measures on PIT withholding in 2024 and 2025 – impact via refunds and tax assessment notices
B18: Receita de capital | D18: 0 | E18: 0 | F18: 0 | G18: 0 | H18: 0 | J18: Capital Revenue
B19: Despesa | D19: 319 | E19: 195 | F19: 4 | G19: 1107 | H19: 1191 | J19: Expenditure
B20: Despesa de capital | D20: 319 | E20: 195 | F20: 4 | G20: 1107 | H20: 1191 | J20: Capital expenditure
B21: FBCF | D21: 173 | E21: 344 | F21: 4 | G21: 1007 | H21: 1291 | J21: GFCF
B22: Aquisição de 12 aviões A-29N Super Tucano p/Força Aérea | D22: 200 | E22: -200 | J22: Acquisition of 12 A-29N Super Tucano aircraft for the Air Force
B23: Aeronave KC 309 | Avião Militar | G23: -152 | J23: KC 309 Aircraft | Military Aircraft
B24: Material Militar no âmbito do SAFE | E24: 44 | G24: 1300 | H24: 1256 | J24: Military equipment within the scope of SAFE
B25: Alienação de imóveis do Estado | D25: -295 | E25: 295 | J25: Sale of state-owned real estate
B26: Aq. 12 automotoras de alta velocid e moderniz do centro de Contumil da CP | E26: 50 | G26: 23 | H26: 67 | J26: Aquisition of 12 high-speed railcars and modernization of the CP Contumil center
B27: Habitação Financ. Nacional | D27: 230 | J27: Housing - National Financial
B28: Apoios excecionais destinados a responder à situação de calamidade | D28: 22 | E28: 30 | F28: -44 | G28: -7 | J28: Exceptional support measures aimed at responding to the state of calamity
B29: Projetos rodoviários prioritários | D29: 16 | E29: 125 | F29: 48 | G29: -156 | H29: -32 | J29: Priority road investment projects
B30: Outras despesas de capital | D30: 146 | E30: -149 | F30: 0 | G30: 100 | H30: -100 | J30: Other capital expenditure
B31: Apoios excecionais destinados a responder à situação de calamidade | D31: 121 | E31: -69 | G31: 100 | H31: -100 | J31: Exceptional support measures aimed at responding to the state of calamity
B32: Despesa com garantias associadas a outras linhas de financ. BPF (Invest EU, Hab; PME…) | D32: 60 | J32: Execution of guarantees associated with other BPF financing lines (InvestEU, Housing, SMEs, etc.)
B33: Garantias da RAA à SATA Internacional | D33: 30 | E33: -80 | J33: Azores Autonomous Region Guarantees to SATA International
B34: Decisões judiciais - ANACOM | D34: -65 | J34: Judicial decisions - ANACOM
B35: Saldo orçamental | D35: 813 | E35: -2240 | F35: -253 | G35: -1314 | H35: -1385 | J35: Budget balance
B37: Fonte: MF. Cálculos do CFP. | Notas: os valores correspondem a variações face ao ano anterior: por exemplo, estima-se que a aquisição de aviões Super Tucano implique um aumento da FBCF de 200 M€ em 2026, que será revertido em 2027; o quadro não inclui o PRR, mas o respetivo impacto foi incorporado na projeção do CFP.
B38: Source: MF. CFP Calculations. | Notes: the values correspond to year-on-year changes: for example, the acquisition of Super Tucano aircrafts is estimated to imply an increase of €200 million in gross fixed capital formation (GFCF) in 2026, which will be reversed in 2027; the table does not include the Recovery and Resilience Plan (RRP), but its impact has been incorporated into the CFP projection.

Sheet Quadro 8 | Table 8
A1: Índice
B2: =+'Índice | Index'!B32 -> Quadro 8 - Medidas one-off (em M€ e % do PIB)
B3: =+'Índice | Index'!C32 -> Table 8 - One-off measures (in million euros and % of GDP)
B4: PT | EN
C5: M€ | F5: % do PIB
C6: 2025 | D6: 2026 | F6: 2025 | G6: 2026
B7: Medidas one-off (impacto no saldo) | C7: -218 | D7: -803 | F7: -0.1 | G7: -0.2 | H7: One-off measures (impact in budget balance)
B9: Despesa | C9: 218 | D9: 803 | F9: 0.1 | G9: 0.2 | H9: Expenditure
B10: Devolução do adicional de solidariedade cobrado à Banca | C10: 218 | F10: 0.1 | H10: Return of the solidarity surcharge charged to Banks
B11: Apoios destinados a responder à situação de calamidade | D11: 803 | G11: 0.2 | H11: Support measures aimed at responding to the state of calamity
B12: Por memória (impacto por agregado orçamental) | H12: Memo items (impact by budget aggregate)
B13: Consumo intermédio | D13: 6 | G13: 0 | H13: Intermediate consumption
B14: Prestações sociais | D14: 2 | G14: 0 | H14: Social transfers
B15: Subsídios | D15: 398 | G15: 0.1 | H15: Subsidies
B16: Outra despesa corrente | D16: 6 | G16: 0 | H16: Other current expenditure
B17: FBCF | D17: 282 | G17: 0.1 | H17: GFCF
B18: Outras despesas de capital | C18: 218 | D18: 109 | F18: 0.1 | G18: 0 | H18: Other capital expenditure
B20: Fontes: INE e MF. Cálculos e classificação da responsabilidade do CFP.| Notas: Os totais não correspondem necessariamente à soma das parcelas devido a arredondamentos. De 2027 a 2030 não foram consideradas quaisquer medidas one-off. Os valores podem vir a sofrer alterações caso a disponibilização de nova informação assim o justifique.
B22: Sources: INE and MoF. CFP's calculation and classification of one-off measures.| Note: Due to rounding the totals do not necessarily correspond to the sum of the percentage GDP figures. From 2027 to 2030 no one-off measures were considered. The values of the impact of the measures may be modified in face of new information.

Sheet Quadro 9 | Table 9
A1: Índice
B2: =+'Índice | Index'!B33 -> Quadro 9 - Cenário orçamental do CFP (em mil M€)
B3: =+'Índice | Index'!C33 -> Table 9 - CFP Budgetary Framework (in billions of euros)
B5: PT | EN
D6: 2025 INE | E6: Projeção CFP
E7: CFP Projection
E8: 2026 | F8: 2027 | G8: 2028 | H8: 2029 | I8: 2030 | J8: 2030-25
B9: Receita total | D9: 133 | E9: 142.7 | F9: 145.3 | G9: 146.8 | H9: 150.8 | I9: 154.1 | J9: 21.1 | L9: Total Revenue
B10: Receita corrente | D10: 129.2 | E10: 138.1 | F10: 141.6 | G10: 144.8 | H10: 148.9 | I10: 152.7 | J10: 23.5 | L10: Current revenue
B11: Receita fiscal | D11: 75.3 | E11: 79.3 | F11: 80.8 | G11: 83.6 | H11: 86 | I11: 88.5 | J11: 13.2 | L11: Tax Revenue
B12: Impostos indiretos | D12: 44.5 | E12: 46.8 | F12: 49.5 | G12: 51.8 | H12: 53.7 | I12: 55.5 | J12: 11 | L12: Indirect taxes
B13: Impostos diretos | D13: 30.8 | E13: 32.5 | F13: 31.3 | G13: 31.8 | H13: 32.3 | I13: 33 | J13: 2.2 | L13: Direct taxes
B14: Contribuições sociais | D14: 38.8 | E14: 41.5 | F14: 43.5 | G14: 45 | H14: 46.3 | I14: 47.3 | J14: 8.5 | L14: Social Contributions
B15: Vendas e out. receitas correntes | D15: 15.1 | E15: 17.3 | F15: 17.3 | G15: 16.2 | H15: 16.5 | I15: 16.9 | J15: 1.8 | L15: Sales and other current revenue
B16: Receita de capital | D16: 3.8 | E16: 4.6 | F16: 3.7 | G16: 2 | H16: 2 | I16: 1.4 | J16: -2.4 | L16: Capital Revenue
B17: Despesa primária | D17: 125 | E17: 135.8 | F17: 138.8 | G17: 140.6 | H17: 145.7 | I17: 151 | J17: 26 | L17: Primary Expenditure
B18: Despesa corrente primária | D18: 113.1 | E18: 121 | F18: 125.2 | G18: 128.8 | H18: 132.9 | I18: 137.2 | J18: 24.1 | L18: Current primary expenditure
B19: Consumo intermédio | D19: 15.7 | E19: 16.9 | F19: 17.3 | G19: 17.3 | H19: 17.9 | I19: 18.4 | J19: 2.7 | L19: Intermediate consumption
B20: Despesa com pessoal | D20: 32.6 | E20: 34.5 | F20: 36 | G20: 37.4 | H20: 38.7 | I20: 39.9 | J20: 7.3 | L20: Compensation of employees
... B32: Dívida pública | D32: 275.1 | E32: 277.8 | F32: 282.3 | G32: 288.6 | H32: 295.5 | I32: 303.5 | J32: 28.4 | L32: Public Debt
B33: Por memória: | L33: Memo items:
B34: Receita Fiscal e Contributiva | D34: 114 | E34: 120.8 | F34: 124.3 | G34: 128.6 | H34: 132.4 | I34: 135.8 | J34: 21.7 | L34: Tax Revenue and Social Contibutions
B35: Receita Não Fiscal e Não Contributiva | D35: 19 | E35: 21.9 | F35: 21 | G35: 18.3 | H35: 18.5 | I35: 18.3 | J35: -0.6 | L35: Non social contributions and non tax revenue
B38: Fonte: INE (2025); projeção e cálculos do CFP.
B39: Source: INE (2025); CFP projections and calculations.
D67: =ROUND(D34,1) -> 114 | E67: =ROUND(E34,1) -> 120.8 | F67: =ROUND(F34,1) -> 124.3 | G67: =ROUND(G34,1) -> 128.6 | H67: =ROUND(H34,1) -> 132.4 | I67: =ROUND(I34,1) -> 135.8 | J67: =ROUND(J34,1) -> 21.7
D68: =ROUND(D35,1) -> 19 | E68: =ROUND(E35,1) -> 21.9 | F68: =ROUND(F35,1) -> 21 | G68: =ROUND(G35,1) -> 18.3 | H68: =ROUND(H35,1) -> 18.5 | I68: =ROUND(I35,1) -> 18.3 | J68: =ROUND(J35,1) -> -0.6

Sheet Quadro 10 | Table 10
A1: Índice
B2: =+'Índice | Index'!B34 -> Quadro 10 – Cenário orçamental do CFP ajustado de medidas one-off (em % e p.p. do PIB)
B3: =+'Índice | Index'!C34 -> Table 10 - CFP Budgetary Framework adjusted from one-off measures (in % and p.p. of GDP)
B5: PT | EN
D6: 2025 INE | E6: Projeção CFP
E7: CFP Projection
E8: 2026 | F8: 2027 | G8: 2028 | H8: 2029 | I8: 2030 | J8: 2030-25
B9: Receita total | D9: 43.4 | E9: 44.2 | F9: 42.9 | G9: 41.7 | H9: 41.1 | I9: 40.5 | J9: -2.8 | L9: Total Revenue
B10: Receita corrente | D10: 42.1 | E10: 42.7 | F10: 41.8 | G10: 41.1 | H10: 40.6 | I10: 40.2 | J10: -1.9 | L10: Current revenue
B11: Receita fiscal | D11: 24.5 | E11: 24.5 | F11: 23.9 | G11: 23.7 | H11: 23.5 | I11: 23.3 | J11: -1.3 | L11: Tax Revenue
B12: Impostos indiretos | D12: 14.5 | E12: 14.5 | F12: 14.6 | G12: 14.7 | H12: 14.7 | I12: 14.6 | J12: 0.1 | L12: Indirect taxes
B13: Impostos diretos | D13: 10 | E13: 10.1 | F13: 9.2 | G13: 9 | H13: 8.8 | I13: 8.7 | J13: -1.4 | L13: Direct taxes
B14: Contribuições sociais | D14: 12.6 | E14: 12.8 | F14: 12.9 | G14: 12.8 | H14: 12.6 | I14: 12.4 | J14: -0.2 | L14: Social Contributions
B15: Vendas e out. receitas correntes | D15: 4.9 | E15: 5.4 | F15: 5.1 | G15: 4.6 | H15: 4.5 | I15: 4.4 | J15: -0.5 | L15: Sales and other current revenue
B16: Receita de capital | D16: 1.2 | E16: 1.4 | F16: 1.1 | G16: 0.6 | H16: 0.5 | I16: 0.4 | J16: -0.9 | L16: Capital Revenue
B17: Despesa primária | D17: 40.7 | E17: 41.8 | F17: 41 | G17: 39.9 | H17: 39.7 | I17: 39.7 | J17: -0.9 | L17: Primary Expenditure
B18: Despesa corrente primária | D18: 36.9 | E18: 37.3 | F18: 37 | G18: 36.5 | H18: 36.2 | I18: 36.1 | J18: -0.8 | L18: Current primary expenditure
